Workbook

Sheet 求人申込書
A1: 提出先：ひとり親家庭支援センター 無料職業紹介所
A2: 求 人 申 込 書
A4: 申込日： | B4: 令和 | E4: 年 | G4: 月 | I4: 日 | R4: 紹介（掲載）期限日： | S4: 令和 | V4: 年 | X4: 月 | Z4: 日
A5: ※の項目は、必ずご記入ください
A6: フリガナ※ | P6: Tel ※
A7: 事業所名※
P8: Fax
P9: Mail
A10: 所在地 | B10: 〒 | E10: -
A12: 業 種 | R12: 従業員数 | Y12: 人
A13: 事業内容
A14: 創 業 | E14: 年 | F14: 資本金 | M14: 円 | O14: 労働組合 | T14: 平均年齢 | W14: 約 | Z14: 歳
A15: ホームページ | B15: URL:
A16: 人事担当者 | B16: 役職 | I16: 氏名 | Q16: メール アドレス
A17: 業務内容※ | B17: 〔雇入れ直後］
B18: 〔変更の範囲］
A19: 雇用形態※ | B19: □ | C19: 正社員 | E19: □ | F19: パート | H19: □ | I19: 準社員 | K19: □ | L19: 臨時職員 | O19: □ | P19: 派遣社員 | S19: □ | T19: その他 | V19: （ | Z19: ）
A20: 契約期間※ | B20: □ | C20: 期間の定めなし
B21: □ | C21: 期間の定めあり | G21: ( | H21: 令和 | K21: 年 | M21: 月 | O21: 日 | P21: ～ | Q21: 令和 | T21: 年 | V21: 月 | X21: 日 | Y21: )
C22: 契約の更新 | F22: □ | G22: 無
F23: □ | G23: 有： | H23: 更新する場合の基準 | M23: 〔 | Z23: 〕
H24: 通算契約期間の上限 | M24: 〔 | P24: 〕 | Q24: 年 | R24: 更新回数の上限 | V24: 〔 | Y24: 〕 | Z24: 回
A25: 試用期間※ | B25: □ | C25: 有 | D25: □ | E25: 無 | F25: 有の場合その期間： | R25: 受入人数 ※ | Y25: 人
A26: 就業場所※ （事業所名・住所） | B26: 〔雇入れ直後〕
B27: 〔変更の範囲〕
A28: 就業時間※ | B28: 始業 | D28: （ | G28: 時 | J28: 分 | K28: ） | L28: ～ | M28: 終業 | O28: （ | R28: 時 | U28: 分 | V28: ）
A29: 休憩時間※ | D29: 時 | G29: 分 | H29: ～ | K29: 時 | N29: 分 | R29: 分
A30: 休日等※ | B30: 休日 | D30: □ | E30: 月 | F30: □ | G30: 火 | H30: □ | I30: 水 | J30: □ | K30: 木 | L30: □ | M30: 金 | N30: □ | O30: 土 | P30: □ | Q30: 日 | R30: □ | S30: 祝 | T30: □ | U30: その他
B31: 週休二日制 | F31: □
B32: 〔 | C32: その他の特記事項 | Z32: 〕
B33: 年間休日数 | G33: 日
A34: 時間外労働※ | B34: □ | C34: 有 | D34: （ | E34: 月平均 | J34: 時間 | L34: ） | M34: □ | N34: 無
A35: 賃 金※ | B35: □ | C35: 月給 | E35: □ | F35: 日給 | H35: □ | I35: 時給 | K35: □ | L35: 年俸制 | N35: □ | O35: その他 | Q35: 〔 | Z35: 〕
B36: 基本給 | I36: 円
B37: 賃金締切日 | H37: 日 | I37: 賃金支払日 | O37: 日 | P37: 月平均労働日数 | W37: 日
A38: 通勤手当※ | B38: □ | C38: 有 | D38: □ | E38: 無 | F38: 有の場合 実費 | K38: （ | L38: □ | M38: 上限あり | P38: □ | Q38: 上限なし | T38: ） | U38: 毎月 | Y38: 円まで
B39: マイカー通勤の可否 | H39: □ | I39: 可 | K39: □ | L39: 否
A40: 定期的に 支払われる手当 ※ | H40: 手当 | M40: 円 | T40: 手当 | Y40: 円
H41: 手当 | M41: 円 | T41: 手当 | Y41: 円
H42: 手当 | M42: 円 | T42: 手当 | Y42: 円
...

Sheet 労働条件等の明示 
A1: 職業安定法第5条の3により、この書面にて労働条件等を明示します。
X2: =求人申込書!B4 -> 令和 | Z2: =IF(求人申込書!D4="","",求人申込書!D4) | AA2: =求人申込書!E4 -> 年 | AB2: =IF(求人申込書!F4="","",求人申込書!F4) | AC2: =求人申込書!G4 -> 月 | AD2: =IF(求人申込書!H4="","",求人申込書!H4) | AE2: =求人申込書!I4 -> 日
A3: 求人者 職業紹介事業者 求職者
A4: 求人者の 氏名又は名称 | G4: （フリガナ） | J4: =IF(求人申込書!B6="","",求人申込書!B6)
G5: =IF(求人申込書!B7="","",求人申込書!B7)
A6: 業務内容 | G6: 〔雇入れ直後〕 | K6: =IF(求人申込書!F17="","",求人申込書!F17)
G7: 〔変更の範囲〕 | K7: =IF(求人申込書!F18="","",求人申込書!F18)
A8: 雇用形態 | G8: =求人申込書!B19 -> □ | H8: 正社員 | J8: =求人申込書!E19 -> □ | K8: パート | M8: =求人申込書!H19 -> □ | N8: 準社員 | P8: =求人申込書!K19 -> □ | Q8: 臨時職員 | T8: =求人申込書!O19 -> □ | U8: 派遣社員 | X8: =求人申込書!S19 -> □ | Y8: その他 | AA8: （ | AB8: =IF(求人申込書!W19="","",求人申込書!W19) | AE8: ）
A9: 契約期間 | G9: =求人申込書!B20 -> □ | H9: 期間の定めなし
G10: =求人申込書!B21 -> □ | H10: 期間の定めあり | L10: ( | M10: =求人申込書!H21 -> 令和 | O10: =IF(求人申込書!J21="","",求人申込書!J21) | P10: 年 | Q10: =IF(求人申込書!L21="","",求人申込書!L21) | R10: 月 | S10: =IF(求人申込書!N21="","",求人申込書!N21) | T10: 日 | U10: ～ | V10: =求人申込書!Q21 -> 令和 | X10: =IF(求人申込書!S21="","",求人申込書!S21) | Y10: 年 | Z10: =IF(求人申込書!U21="","",求人申込書!U21) | AA10: 月 | AB10: =IF(求人申込書!W21="","",求人申込書!W21) | AC10: 日 | AD10: )
H11: 契約の更新 | K11: =求人申込書!F22 -> □ | L11: 無
K12: =求人申込書!F23 -> □ | L12: 有： | M12: 更新する場合の基準 | R12: 〔 | S12: =IF(求人申込書!N23="","",求人申込書!N23) | AE12: 〕
M13: 通算契約期間の上限 | R13: 〔 | S13: =IF(求人申込書!N24="","",求人申込書!N24) | U13: 〕 | V13: 年 | W13: 更新回数の上限 | AA13: 〔 | AB13: =IF(求人申込書!W24="","",求人申込書!W24) | AD13: 〕 | AE13: 回
A14: 試用期間 | G14: =求人申込書!B25 -> □ | H14: 有 | I14: =求人申込書!D25 -> □ | J14: 無 | K14: 有の場合その期間： | Q14: =IF(求人申込書!L25="","",求人申込書!L25) | W14: 受入人数 | Z14: =IF(求人申込書!U25="","",求人申込書!U25) | AD14: 人
A15: 就業場所 （事業所名・住所） | G15: 〔雇入れ直後〕 | K15: =IF(求人申込書!F26="","",求人申込書!F26)
G16: 〔変更の範囲〕 | K16: =IF(求人申込書!F27="","",求人申込書!F27)
A17: 就業時間 | G17: 始業 | I17: （ | J17: =IF(求人申込書!E28="","",求人申込書!E28) | L17: 時 | M17: =IF(求人申込書!H28="","",求人申込書!H28) | O17: 分 | P17: ） | Q17: ～ | R17: 終業 | T17: （ | U17: =IF(求人申込書!P28="","",求人申込書!P28) | W17: 時 | X17: =IF(求人申込書!S28="","",求人申込書!S28) | Z17: 分 | AA17: ）
A18: 休憩時間 | G18: =IF(求人申込書!B29="","",求人申込書!B29) | I18: 時 | J18: =IF(求人申込書!E29="","",求人申込書!E29) | L18: 分 | M18: ～ | N18: =IF(求人申込書!I29="","",求人申込書!I29) | P18: 時 | Q18: =IF(求人申込書!L29="","",求人申込書!L29) | S18: 分
A19: 休日等 | G19: 休日 | I19: =IF(求人申込書!D30="","",求人申込書!D30) -> □ | J19: 月 | K19: =IF(求人申込書!F30="","",求人申込書!F30) -> □ | L19: 火 | M19: =IF(求人申込書!H30="","",求人申込書!H30) -> □ | N19: 水 | O19: =IF(求人申込書!J30="","",求人申込書!J30) -> □ | P19: 木 | Q19: =IF(求人申込書!L30="","",求人申込書!L30) -> □ | R19: 金 | S19: =IF(求人申込書!N30="","",求人申込書!N30) -> □ | T19: 土 | U19: =IF(求人申込書!P30="","",求人申込書!P30) -> □ | V19: 日 | W19: =IF(求人申込書!R30="","",求人申込書!R30) -> □ | X19: 祝 | Y19: =IF(求人申込書!T30="","",求人申込書!T30) -> □ | Z19: その他
G20: 週休二日制 | K20: =IF(求人申込書!F31="","",求人申込書!F31) -> □
G21: 〔 | H21: その他の特記事項 | M21: =IF(求人申込書!H32="","",求人申込書!H32) | AE21: 〕
G22: 年間休日数 | J22: =IF(求人申込書!E33="","",求人申込書!E33) | L22: 日
A23: 時間外労働 | G23: =IF(求人申込書!B34="","",求人申込書!B34) -> □ | H23: 有 | I23: （ | J23: 月平均 | L23: =IF(求人申込書!G34="","",求人申込書!G34) | M23: =IF(求人申込書!H34="","",求人申込書!H34) | N23: =IF(求人申込書!I34="","",求人申込書!I34) | O23: 時間 | Q23: ） | R23: =IF(求人申込書!M34="","",求人申込書!M34) -> □ | S23: 無
A24: 賃 金 | G24: =IF(求人申込書!B35="","",求人申込書!B35) -> □ | H24: 月給 | J24: =IF(求人申込書!E35="","",求人申込書!E35) -> □ | K24: 日給 | M24: =IF(求人申込書!H35="","",求人申込書!H35) -> □ | N24: 時給 | P24: =IF(求人申込書!K35="","",求人申込書!K35) -> □ | Q24: 年俸制 | S24: =IF(求人申込書!N35="","",求人申込書!N35) -> □ | T24: その他 | V24: 〔 | W24: =IF(求人申込書!R35="","",求人申込書!R35) | X24: =IF(求人申込書!S35="","",求人申込書!S35) | Y24: =IF(求人申込書!T35="","",求人申込書!T35) | Z24: =IF(求人申込書!U35="","",求人申込書!U35) | AA24: =IF(求人申込書!V35="","",求人申込書!V35) | AB24: =IF(求人申込書!W35="","",求人申込書!W35) | AC24: =IF(求人申込書!X35="","",求人申込書!X35) | AD24: =IF(求人申込書!Y35="","",求人申込書!Y35) | AE24: 〕
G25: 基本給 | J25: =IF(求人申込書!E36="","",求人申込書!E36) | K25: =IF(求人申込書!F36="","",求人申込書!F36) | L25: =IF(求人申込書!G36="","",求人申込書!G36) | M25: =IF(求人申込書!H36="","",求人申込書!H36) | N25: 円
G26: 賃金締切日 | K26: =IF(求人申込書!F37="","",求人申込書!F37) | M26: 日 | N26: 賃金支払日 | R26: =IF(求人申込書!M37="","",求人申込書!M37) | T26: 日 | U26: 月平均労働日数 | Z26: =IF(求人申込書!U37="","",求人申込書!U37) | AB26: 日
A27: 通勤手当 | G27: =IF(求人申込書!B38="","",求人申込書!B38) -> □ | H27: 有 | I27: =IF(求人申込書!D38="","",求人申込書!D38) -> □ | J27: 無 | K27: 有の場合 実費 | P27: （ | Q27: =IF(求人申込書!L38="","",求人申込書!L38) -> □ | R27: 上限あり | U27: =IF(求人申込書!P38="","",求人申込書!P38) -> □ | V27: 上限なし | Y27: ） | Z27: 毎月 | AB27: =IF(求人申込書!W38="","",求人申込書!W38) | AC27: =IF(求人申込書!X38="","",求人申込書!X38) | AD27: 円まで
G28: マイカー通勤の可否 | M28: =IF(求人申込書!H39="","",求人申込書!H39) -> □ | N28: 可 | P28: =IF(求人申込書!K39="","",求人申込書!K39) -> □ | Q28: 否
A29: 定期的に 支払われる手当 | G29: =IF(求人申込書!B40="","",求人申込書!B40) | H29: =IF(求人申込書!C40="","",求人申込書!C40) | I29: =IF(求人申込書!D40="","",求人申込書!D40) | J29: =IF(求人申込書!E40="","",求人申込書!E40) | K29: =IF(求人申込書!F40="","",求人申込書!F40) | L29: =IF(求人申込書!G40="","",求人申込書!G40) | M29: 手当 | O29: =IF(求人申込書!J40="","",求人申込書!J40) | P29: =IF(求人申込書!K40="","",求人申込書!K40) | Q29: =IF(求人申込書!L40="","",求人申込書!L40) | R29: 円 | S29: =IF(求人申込書!N40="","",求人申込書!N40) | T29: =IF(求人申込書!O40="","",求人申込書!O40) | U29: =IF(求人申込書!P40="","",求人申込書!P40) | V29: =IF(求人申込書!Q40="","",求人申込書!Q40) | W29: =IF(求人申込書!R40="","",求人申込書!R40) | X29: =IF(求人申込書!S40="","",求人申込書!S40) | Y29: 手当 | AA29: =IF(求人申込書!V40="","",求人申込書!V40) | AB29: =IF(求人申込書!W40="","",求人申込書!W40) | AC29: =IF(求人申込書!X40="","",求人申込書!X40) | AD29: 円
G30: =IF(求人申込書!B41="","",求人申込書!B41) | H30: =IF(求人申込書!C41="","",求人申込書!C41) | I30: =IF(求人申込書!D41="","",求人申込書!D41) | J30: =IF(求人申込書!E41="","",求人申込書!E41) | K30: =IF(求人申込書!F41="","",求人申込書!F41) | L30: =IF(求人申込書!G41="","",求人申込書!G41) | M30: 手当 | O30: =IF(求人申込書!J41="","",求人申込書!J41) | P30: =IF(求人申込書!K41="","",求人申込書!K41) | Q30: =IF(求人申込書!L41="","",求人申込書!L41) | R30: 円 | S30: =IF(求人申込書!N41="","",求人申込書!N41) | T30: =IF(求人申込書!O41="","",求人申込書!O41) | U30: =IF(求人申込書!P41="","",求人申込書!P41) | V30: =IF(求人申込書!Q41="","",求人申込書!Q41) | W30: =IF(求人申込書!R41="","",求人申込書!R41) | X30: =IF(求人申込書!S41="","",求人申込書!S41) | Y30: 手当 | AA30: =IF(求人申込書!V41="","",求人申込書!V41) | AB30: =IF(求人申込書!W41="","",求人申込書!W41) | AC30: =IF(求人申込書!X41="","",求人申込書!X41) | AD30: 円
G31: =IF(求人申込書!B42="","",求人申込書!B42) | H31: =IF(求人申込書!C42="","",求人申込書!C42) | I31: =IF(求人申込書!D42="","",求人申込書!D42) | J31: =IF(求人申込書!E42="","",求人申込書!E42) | K31: =IF(求人申込書!F42="","",求人申込書!F42) | L31: =IF(求人申込書!G42="","",求人申込書!G42) | M31: 手当 | O31: =IF(求人申込書!J42="","",求人申込書!J42) | P31: =IF(求人申込書!K42="","",求人申込書!K42) | Q31: =IF(求人申込書!L42="","",求人申込書!L42) | R31: 円 | S31: =IF(求人申込書!N42="","",求人申込書!N42) | T31: =IF(求人申込書!O42="","",求人申込書!O42) | U31: =IF(求人申込書!P42="","",求人申込書!P42) | V31: =IF(求人申込書!Q42="","",求人申込書!Q42) | W31: =IF(求人申込書!R42="","",求人申込書!R42) | X31: =IF(求人申込書!S42="","",求人申込書!S42) | Y31: 手当 | AA31: =IF(求人申込書!V42="","",求人申込書!V42) | AB31: =IF(求人申込書!W42="","",求人申込書!W42) | AC31: =IF(求人申込書!X42="","",求人申込書!X42) | AD31: 円
A32: 加入保険 | G32: =IF(求人申込書!B43="","",求人申込書!B43) -> □ | H32: 健康保険 | L32: =IF(求人申込書!G43="","",求人申込書!G43) -> □ | M32: 厚生年金保険 | R32: =IF(求人申込書!M43="","",求人申込書!M43) -> □ | S32: 労災保険 | W32: =IF(求人申込書!R43="","",求人申込書!R43) -> □ | X32: 雇用保険
G33: =IF(求人申込書!B44="","",求人申込書!B44) -> □ | H33: 国民健康保険組合 | M33: =IF(求人申込書!H44="","",求人申込書!H44) -> □ | N33: 退職金共済
G34: =IF(求人申込書!B45="","",求人申込書!B45) -> □ | H34: その他 | J34: （ | K34: =IF(求人申込書!F45="","",求人申込書!F45) | L34: =IF(求人申込書!G45="","",求人申込書!G45) | M34: =IF(求人申込書!H45="","",求人申込書!H45) | N34: =IF(求人申込書!I45="","",求人申込書!I45) | O34: =IF(求人申込書!J45="","",求人申込書!J45) | P34: =IF(求人申込書!K45="","",求人申込書!K45) | Q34: =IF(求人申込書!L45="","",求人申込書!L45) | R34: =IF(求人申込書!M45="","",求人申込書!M45) | ... AC34: =IF(求人申込書!X45="","",求人申込書!X45) | AD34: ）
A35: 賞 与 | G35: =IF(求人申込書!B46="","",求人申込書!B46) -> □ | H35: あり | J35: =IF(求人申込書!E46="","",求人申込書!E46) -> □ | K35: なし
G36: ＜あり＞の場合 | L36: =IF(求人申込書!G47="","",求人申込書!G47) -> □ | M36: 諸手当 | O36: =IF(求人申込書!J47="","",求人申込書!J47) | P36: =IF(求人申込書!K47="","",求人申込書!K47) | Q36: =IF(求人申込書!L47="","",求人申込書!L47) | R36: 円 | T36: =IF(求人申込書!O47="","",求人申込書!O47) -> □ | U36: 賞与（前年度実績） | Z36: =IF(求人申込書!U47="","",求人申込書!U47) | AA36: =IF(求人申込書!V47="","",求人申込書!V47) | AB36: =IF(求人申込書!W47="","",求人申込書!W47) | AC36: 円
A37: 昇給有無 | G37: =IF(求人申込書!B48="","",求人申込書!B48) -> □ | H37: あり | J37: =IF(求人申込書!E48="","",求人申込書!E48) -> □ | K37: なし
G38: ＜あり＞の場合 | L38: （前年実績 | O38: =IF(求人申込書!J49="","",求人申込書!J49) | P38: =IF(求人申込書!K49="","",求人申込書!K49) | Q38: =IF(求人申込書!L49="","",求人申込書!L49) | R38: 円/月～ | U38: =IF(求人申込書!P49="","",求人申込書!P49) | V38: =IF(求人申込書!Q49="","",求人申込書!Q49) | W38: =IF(求人申込書!R49="","",求人申込書!R49) | X38: 円/月）
A39: 就業場所における 受動喫煙防止措置 | G39: =IF(求人申込書!B52="","",求人申込書!B52) -> □ | H39: 屋内禁煙 | K39: =IF(求人申込書!F52="","",求人申込書!F52) -> □ | L39: 屋内原則禁煙(喫煙室あり) | S39: =IF(求人申込書!N52="","",求人申込書!N52) -> □ | T39: 敷地内禁煙(喫煙場所 | AA39: )
G40: =IF(求人申込書!B53="","",求人申込書!B53) -> □ | H40: その他（ | AA40: )
...
